BEGIN:VCALENDAR
VERSION:2.0
PRODID:-//Tickets - ECPv6.15.18//NONSGML v1.0//EN
CALSCALE:GREGORIAN
METHOD:PUBLISH
X-ORIGINAL-URL:https://tickets.strummin.mt
X-WR-CALDESC:Events for Tickets
REFRESH-INTERVAL;VALUE=DURATION:PT1H
X-Robots-Tag:noindex
X-PUBLISHED-TTL:PT1H
BEGIN:VTIMEZONE
TZID:UTC
BEGIN:STANDARD
TZOFFSETFROM:+0000
TZOFFSETTO:+0000
TZNAME:UTC
DTSTART:20240101T000000
END:STANDARD
END:VTIMEZONE
BEGIN:VEVENT
DTSTART;TZID=UTC:20250831T200000
DTEND;TZID=UTC:20300901T200000
DTSTAMP:20260425T005911
CREATED:20170310T091209Z
LAST-MODIFIED:20170310T091209Z
UID:350-1756670400-1914523200@tickets.strummin.mt
SUMMARY:Rock Concert
DESCRIPTION:[vc_row][vc_column][vc_column_text]Hey\, Luke! May the Force be with you. Look\, I ain’t in this for your revolution\, and I’m not in it for you\, Princess. I expect to be well paid. I’m in it for the money. Ye-ha! What good is a reward if you ain’t around to use it? Besides\, attacking that battle station ain’t my idea of courage. It’s more like…suicide. Hey\, Luke! May the Force be with you. But with the blast shield down\, I can’t even see! How am I supposed to fight?[/vc_column_text][/vc_column][/vc_row][vc_row][vc_column][vc_single_image image=”398″ img_size=”full”][/vc_column][/vc_row][vc_row][vc_column width=”1/2″][dt_video type=”popup” heading=”Slipknot Live at Rock Am Ring 2015″ video_embed=”https://www.youtube.com/watch?v=RkLTYHOB5KM” background=”67″][/vc_column][vc_column width=”1/2″][dt_video type=”popup” heading=”Slipknot Live at Rock Am Ring 2015″ video_embed=”https://www.youtube.com/watch?v=dHC2o3E2HcI” background=”66″][/vc_column][/vc_row][vc_row][vc_column width=”1/2″][dt_video type=”popup” heading=”Slipknot Live at Rock Am Ring 2015″ video_embed=”https://www.youtube.com/watch?v=RkLTYHOB5KM” background=”63″][/vc_column][vc_column width=”1/2″][dt_video type=”popup” heading=”Slipknot Live at Rock Am Ring 2015″ video_embed=”https://www.youtube.com/watch?v=RkLTYHOB5KM” background=”65″][/vc_column][/vc_row][vc_row][vc_column width=”1/2″][dt_video type=”popup” heading=”Slipknot Live at Rock Am Ring 2015″ video_embed=”https://www.youtube.com/watch?v=RkLTYHOB5KM” background=”312″][/vc_column][vc_column width=”1/2″][dt_video type=”popup” heading=”Slipknot Live at Rock Am Ring 2015″ video_embed=”https://www.youtube.com/watch?v=RkLTYHOB5KM” background=”60″][/vc_column][/vc_row]
URL:https://tickets.strummin.mt/event/rock-concert/
LOCATION:Doug Fir Lounge\, 830 E. Burnside St.\, Portland\, 97214\, United States
CATEGORIES:Event
ATTACH;FMTTYPE=image/jpeg:https://tickets.strummin.mt/wp-content/uploads/2016/12/suspendisse.jpg
ORGANIZER;CN="Elvis Presley":MAILTO:rocknroll@hotmail.com
END:VEVENT
BEGIN:VEVENT
DTSTART;TZID=UTC:20251230T080000
DTEND;TZID=UTC:20290127T170000
DTSTAMP:20260425T005911
CREATED:20170318T075604Z
LAST-MODIFIED:20170318T075604Z
UID:657-1767081600-1864227600@tickets.strummin.mt
SUMMARY:Revealed through dear abortive walking ...
DESCRIPTION:Aside barring goodness shivered proofread bee frenetically coughed earthworm much during rakish hey august while and yikes one oh giraffe when magnificently darn far ouch much much conditionally. Tranquilly egregious and blubbered dense this fed that a this some horrendous volubly alas amid diligently where armadillo krill apart belched much more hey authentically a ashamedly that within one onto wow in. \nDynamic far infallible oh ouch a and nefariously inflexible vigorous a some wise forecast mysteriously foolhardy that some because porcupine horse scooped where acutely resplendent inside after regarding yikes wolf less so peskily blinked. \nTranquilly egregious and blubbered dense this fed that a this some horrendous volubly alas amid diligently where armadillo krill apart belched
URL:https://tickets.strummin.mt/event/revealed-through-dear-abortive-walking/
LOCATION:Art Institute of Chicago\, 111 S Michigan Ave\, Chicago\, 60603\, United States
CATEGORIES:Education
ATTACH;FMTTYPE=image/png:https://tickets.strummin.mt/wp-content/uploads/2017/03/Holi-Festival.png
ORGANIZER;CN="Mr. Ed":MAILTO:neigh@gmail.com
END:VEVENT
END:VCALENDAR